BEGIN:VCALENDAR
VERSION:2.0
PRODID:-//Sankt Martin-Schule Mardorf - ECPv6.15.20//NONSGML v1.0//EN
CALSCALE:GREGORIAN
METHOD:PUBLISH
X-ORIGINAL-URL:https://sanktmartinschule.de
X-WR-CALDESC:Veranstaltungen für Sankt Martin-Schule Mardorf
REFRESH-INTERVAL;VALUE=DURATION:PT1H
X-Robots-Tag:noindex
X-PUBLISHED-TTL:PT1H
BEGIN:VTIMEZONE
TZID:Europe/Berlin
BEGIN:DAYLIGHT
TZOFFSETFROM:+0100
TZOFFSETTO:+0200
TZNAME:CEST
DTSTART:20250330T010000
END:DAYLIGHT
BEGIN:STANDARD
TZOFFSETFROM:+0200
TZOFFSETTO:+0100
TZNAME:CET
DTSTART:20251026T010000
END:STANDARD
BEGIN:DAYLIGHT
TZOFFSETFROM:+0100
TZOFFSETTO:+0200
TZNAME:CEST
DTSTART:20260329T010000
END:DAYLIGHT
BEGIN:STANDARD
TZOFFSETFROM:+0200
TZOFFSETTO:+0100
TZNAME:CET
DTSTART:20261025T010000
END:STANDARD
BEGIN:DAYLIGHT
TZOFFSETFROM:+0100
TZOFFSETTO:+0200
TZNAME:CEST
DTSTART:20270328T010000
END:DAYLIGHT
BEGIN:STANDARD
TZOFFSETFROM:+0200
TZOFFSETTO:+0100
TZNAME:CET
DTSTART:20271031T010000
END:STANDARD
END:VTIMEZONE
BEGIN:VEVENT
DTSTART;VALUE=DATE:20260605
DTEND;VALUE=DATE:20260606
DTSTAMP:20260425T132344
CREATED:20260316T105938Z
LAST-MODIFIED:20260316T105938Z
UID:4212-1780617600-1780703999@sanktmartinschule.de
SUMMARY:Beweglicher Ferientag
DESCRIPTION:
URL:https://sanktmartinschule.de/event/beweglicher-ferientag-20/
END:VEVENT
BEGIN:VEVENT
DTSTART;VALUE=DATE:20260609
DTEND;VALUE=DATE:20260610
DTSTAMP:20260425T132344
CREATED:20260316T110006Z
LAST-MODIFIED:20260316T110006Z
UID:4214-1780963200-1781049599@sanktmartinschule.de
SUMMARY:Besuch der zukünftigen Erstklässler
DESCRIPTION:
URL:https://sanktmartinschule.de/event/besuch-der-zukuenftigen-erstklaessler-3/
END:VEVENT
BEGIN:VEVENT
DTSTART;VALUE=DATE:20260615
DTEND;VALUE=DATE:20260621
DTSTAMP:20260425T132344
CREATED:20260316T110040Z
LAST-MODIFIED:20260316T110040Z
UID:4216-1781481600-1781999999@sanktmartinschule.de
SUMMARY:Zirkusprojektwoche
DESCRIPTION:
URL:https://sanktmartinschule.de/event/zirkusprojektwoche/
END:VEVENT
BEGIN:VEVENT
DTSTART;VALUE=DATE:20260626
DTEND;VALUE=DATE:20260627
DTSTAMP:20260425T132344
CREATED:20260316T110132Z
LAST-MODIFIED:20260316T110211Z
UID:4218-1782432000-1782518399@sanktmartinschule.de
SUMMARY:Verabschiedung der Viertklässler / Zeugnisausgabe / Beginn der Sommerferien (Unterrichtsschluss 10:50 Uhr)
DESCRIPTION:
URL:https://sanktmartinschule.de/event/zeugnisausgabe-beginn-der-sommerferien-unterrichtsschluss-1050-uhr/
END:VEVENT
END:VCALENDAR